BEGIN:VCALENDAR
VERSION:2.0
PRODID:-//Mount Douglas Secondary - ECPv6.2.8.1//NONSGML v1.0//EN
CALSCALE:GREGORIAN
METHOD:PUBLISH
X-ORIGINAL-URL:https://mountdoug.sd61.bc.ca
X-WR-CALDESC:Events for Mount Douglas Secondary
REFRESH-INTERVAL;VALUE=DURATION:PT1H
X-Robots-Tag:noindex
X-PUBLISHED-TTL:PT1H
BEGIN:VTIMEZONE
TZID:America/Vancouver
BEGIN:DAYLIGHT
TZOFFSETFROM:-0800
TZOFFSETTO:-0700
TZNAME:PDT
DTSTART:20150308T100000
END:DAYLIGHT
BEGIN:STANDARD
TZOFFSETFROM:-0700
TZOFFSETTO:-0800
TZNAME:PST
DTSTART:20151101T090000
END:STANDARD
END:VTIMEZONE
BEGIN:VEVENT
DTSTART;VALUE=DATE:20150909
DTEND;VALUE=DATE:20150910
DTSTAMP:20260422T160845
CREATED:20150618T170319Z
LAST-MODIFIED:20150714T194332Z
UID:5495-1441756800-1441843199@mountdoug.sd61.bc.ca
SUMMARY:Student Assemblies
DESCRIPTION:Grade 10/11 Assembly  8:45 – 9:15 am \nGrade 12 Assembly 9:25 – 9:52 am \n 
URL:https://mountdoug.sd61.bc.ca/calendar-event/assemblies/
END:VEVENT
BEGIN:VEVENT
DTSTART;TZID=America/Vancouver:20150909T080000
DTEND;TZID=America/Vancouver:20150909T170000
DTSTAMP:20260422T160845
CREATED:20150909T200939Z
LAST-MODIFIED:20150909T200939Z
UID:5726-1441785600-1441818000@mountdoug.sd61.bc.ca
SUMMARY:Meet the Teacher Night - 6:45 p.m.
DESCRIPTION:Mount Douglas High School will be hosting a New Parent/Guardian Information Evening Thursday\, September 10th at 6:45.  The goal of this event is to share some basic information about our school and\, for the most part\, ways in which we support your sons and daughters with respect to their educational and social/emotional well-being.  At 7:30 pm we also invite you to join our RAMPAC in the library; everyone is welcome!
URL:https://mountdoug.sd61.bc.ca/calendar-event/meet-the-teacher-night-645-p-m/
END:VEVENT
END:VCALENDAR