BEGIN:VCALENDAR
VERSION:2.0
PRODID:-//Mount Douglas Secondary - ECPv6.2.8.1//NONSGML v1.0//EN
CALSCALE:GREGORIAN
METHOD:PUBLISH
X-ORIGINAL-URL:https://mountdoug.sd61.bc.ca
X-WR-CALDESC:Events for Mount Douglas Secondary
REFRESH-INTERVAL;VALUE=DURATION:PT1H
X-Robots-Tag:noindex
X-PUBLISHED-TTL:PT1H
BEGIN:VTIMEZONE
TZID:America/Vancouver
BEGIN:DAYLIGHT
TZOFFSETFROM:-0800
TZOFFSETTO:-0700
TZNAME:PDT
DTSTART:20150308T100000
END:DAYLIGHT
BEGIN:STANDARD
TZOFFSETFROM:-0700
TZOFFSETTO:-0800
TZNAME:PST
DTSTART:20151101T090000
END:STANDARD
END:VTIMEZONE
BEGIN:VEVENT
DTSTART;TZID=America/Vancouver:20150914T112000
DTEND;TZID=America/Vancouver:20150914T124500
DTSTAMP:20260422T160819
CREATED:20150618T172207Z
LAST-MODIFIED:20150618T173804Z
UID:5501-1442229600-1442234700@mountdoug.sd61.bc.ca
SUMMARY:BC Transit Youth Pass Photos
DESCRIPTION:
URL:https://mountdoug.sd61.bc.ca/calendar-event/bc-transit-youth-pass-photos-3/
END:VEVENT
END:VCALENDAR