BEGIN:VCALENDAR
VERSION:2.0
PRODID:-//Mount Douglas Secondary - ECPv6.2.8.1//NONSGML v1.0//EN
CALSCALE:GREGORIAN
METHOD:PUBLISH
X-WR-CALNAME:Mount Douglas Secondary
X-ORIGINAL-URL:https://mountdoug.sd61.bc.ca
X-WR-CALDESC:Events for Mount Douglas Secondary
REFRESH-INTERVAL;VALUE=DURATION:PT1H
X-Robots-Tag:noindex
X-PUBLISHED-TTL:PT1H
BEGIN:VTIMEZONE
TZID:America/Vancouver
BEGIN:DAYLIGHT
TZOFFSETFROM:-0800
TZOFFSETTO:-0700
TZNAME:PDT
DTSTART:20150308T100000
END:DAYLIGHT
BEGIN:STANDARD
TZOFFSETFROM:-0700
TZOFFSETTO:-0800
TZNAME:PST
DTSTART:20151101T090000
END:STANDARD
END:VTIMEZONE
BEGIN:VEVENT
DTSTART;VALUE=DATE:20151023
DTEND;VALUE=DATE:20151024
DTSTAMP:20260425T051601
CREATED:20150423T165054Z
LAST-MODIFIED:20150423T165054Z
UID:5336-1445558400-1445644799@mountdoug.sd61.bc.ca
SUMMARY:Pro-D Day
DESCRIPTION:No classes
URL:https://mountdoug.sd61.bc.ca/calendar-event/pro-d-day-8/
END:VEVENT
BEGIN:VEVENT
DTSTART;VALUE=DATE:20151023
DTEND;VALUE=DATE:20151024
DTSTAMP:20260425T051601
CREATED:20150702T231840Z
LAST-MODIFIED:20150702T232059Z
UID:5663-1445558400-1445644799@mountdoug.sd61.bc.ca
SUMMARY:YCI Conference at Mount Doug
DESCRIPTION:YCI Motivational Conference taking place at Mount Doug
URL:https://mountdoug.sd61.bc.ca/calendar-event/yci-conference-at-mount-doug/
LOCATION:Mount Douglas Secondary School\, 3970 Gordon Head Road\, Victoria\, B.C.\, BC\, V8N 3X3\, Canada
END:VEVENT
END:VCALENDAR