BEGIN:VCALENDAR
VERSION:2.0
PRODID:-//Mount Douglas Secondary - ECPv6.2.8.1//NONSGML v1.0//EN
CALSCALE:GREGORIAN
METHOD:PUBLISH
X-ORIGINAL-URL:https://mountdoug.sd61.bc.ca
X-WR-CALDESC:Events for Mount Douglas Secondary
REFRESH-INTERVAL;VALUE=DURATION:PT1H
X-Robots-Tag:noindex
X-PUBLISHED-TTL:PT1H
BEGIN:VTIMEZONE
TZID:America/Vancouver
BEGIN:DAYLIGHT
TZOFFSETFROM:-0800
TZOFFSETTO:-0700
TZNAME:PDT
DTSTART:20150308T100000
END:DAYLIGHT
BEGIN:STANDARD
TZOFFSETFROM:-0700
TZOFFSETTO:-0800
TZNAME:PST
DTSTART:20151101T090000
END:STANDARD
END:VTIMEZONE
BEGIN:VEVENT
DTSTART;VALUE=DATE:20151001
DTEND;VALUE=DATE:20151002
DTSTAMP:20260422T173533
CREATED:20150618T172955Z
LAST-MODIFIED:20150618T172955Z
UID:5509-1443657600-1443743999@mountdoug.sd61.bc.ca
SUMMARY:Grad Spirit Week
DESCRIPTION:
URL:https://mountdoug.sd61.bc.ca/calendar-event/grad-spirit-week-4/
END:VEVENT
BEGIN:VEVENT
DTSTART;VALUE=DATE:20151002
DTEND;VALUE=DATE:20151003
DTSTAMP:20260422T173533
CREATED:20150618T173031Z
LAST-MODIFIED:20150618T173031Z
UID:5510-1443744000-1443830399@mountdoug.sd61.bc.ca
SUMMARY:Grad Spirit Week
DESCRIPTION:Sept. 28-Oct. 2
URL:https://mountdoug.sd61.bc.ca/calendar-event/grad-spirit-week-5/
END:VEVENT
BEGIN:VEVENT
DTSTART;VALUE=DATE:20151012
DTEND;VALUE=DATE:20151013
DTSTAMP:20260422T173533
CREATED:20150422T173310Z
LAST-MODIFIED:20150422T173310Z
UID:5322-1444608000-1444694399@mountdoug.sd61.bc.ca
SUMMARY:Thanksgiving Monday
DESCRIPTION:No School
URL:https://mountdoug.sd61.bc.ca/calendar-event/thanksgiving-monday/
END:VEVENT
BEGIN:VEVENT
DTSTART;VALUE=DATE:20151013
DTEND;VALUE=DATE:20151014
DTSTAMP:20260422T173533
CREATED:20150622T164958Z
LAST-MODIFIED:20151005T165219Z
UID:5515-1444694400-1444780799@mountdoug.sd61.bc.ca
SUMMARY:Grade 9 Immunizations
DESCRIPTION:
URL:https://mountdoug.sd61.bc.ca/calendar-event/grade-9-immunizations-8/
END:VEVENT
BEGIN:VEVENT
DTSTART;VALUE=DATE:20151016
DTEND;VALUE=DATE:20151017
DTSTAMP:20260422T173533
CREATED:20151005T181315Z
LAST-MODIFIED:20151005T181618Z
UID:5810-1444953600-1445039999@mountdoug.sd61.bc.ca
SUMMARY:Interim Report Cards
DESCRIPTION:Interim Report Cards will be going out Friday\, October 16th
URL:https://mountdoug.sd61.bc.ca/calendar-event/interim-report-cards/
END:VEVENT
BEGIN:VEVENT
DTSTART;VALUE=DATE:20151021
DTEND;VALUE=DATE:20151022
DTSTAMP:20260422T173533
CREATED:20150702T230721Z
LAST-MODIFIED:20150702T230752Z
UID:5661-1445385600-1445471999@mountdoug.sd61.bc.ca
SUMMARY:"We" Day Student Conference
DESCRIPTION:
URL:https://mountdoug.sd61.bc.ca/calendar-event/we-day-student-conference-3/
END:VEVENT
BEGIN:VEVENT
DTSTART;TZID=America/Vancouver:20151021T190000
DTEND;TZID=America/Vancouver:20151021T210000
DTSTAMP:20260422T173533
CREATED:20150622T165302Z
LAST-MODIFIED:20150702T230615Z
UID:5517-1445454000-1445461200@mountdoug.sd61.bc.ca
SUMMARY:RAMPAC Meeting 7:00 pm
DESCRIPTION:Location:  Mount Doug Library
URL:https://mountdoug.sd61.bc.ca/calendar-event/rampac-tentative/
END:VEVENT
BEGIN:VEVENT
DTSTART;TZID=America/Vancouver:20151022T143000
DTEND;TZID=America/Vancouver:20151022T190000
DTSTAMP:20260422T173533
CREATED:20151005T180507Z
LAST-MODIFIED:20151021T170955Z
UID:5808-1445524200-1445540400@mountdoug.sd61.bc.ca
SUMMARY:Parent/Teacher Interviews - October 22
DESCRIPTION:PARENT TEACHER INTERVIEWS – Thursday\, October 22\, 2015 \nParent Teacher Interviews will be taking place on Thursday\, October 22nd from 2:30 p.m. to 7:00 p.m. While we encourage and appreciate families requesting interviews\, please keep in mind that some teachers do get fully booked fairly quickly. During the first few days of online booking\, please consider making appointments with only those teachers you really need to see; i.e. concerns from the Interim Report about work habits\, teacher comments\, etc. \nOnline booking of appointments is scheduled to be available beginning on Monday\, October 19th at 9:00 am and will run until 12 noon October 22nd. The information for this process is included as an attachment. Teacher names are required and can be found on the Interim Report cards. If you require assistance\, please contact the school at (250) 477-6977 or mtdouginfo@sd61.bc.ca \nALTERED SCHEDULE FOR PARENT TEACHER INTERVIEW DAY – Thursday\, October 22\, 2015 \nTo accommodate the October 22nd Parent Teacher interviews\, following is the class time schedule for the day: \n8:30 to 9:20                 Period 2 \n9:25 to 10:15               Period 1 \n10:15 to 10:25            Break \n10:25 to 11:15            Period 4 \n11:20 to 12:10            Period 3 \nOn-line Booking Parent Teacher Interviews
URL:https://mountdoug.sd61.bc.ca/calendar-event/parentteacher-interviews-october-22/
END:VEVENT
BEGIN:VEVENT
DTSTART;VALUE=DATE:20151023
DTEND;VALUE=DATE:20151024
DTSTAMP:20260422T173533
CREATED:20150423T165054Z
LAST-MODIFIED:20150423T165054Z
UID:5336-1445558400-1445644799@mountdoug.sd61.bc.ca
SUMMARY:Pro-D Day
DESCRIPTION:No classes
URL:https://mountdoug.sd61.bc.ca/calendar-event/pro-d-day-8/
END:VEVENT
BEGIN:VEVENT
DTSTART;VALUE=DATE:20151023
DTEND;VALUE=DATE:20151024
DTSTAMP:20260422T173533
CREATED:20150702T231840Z
LAST-MODIFIED:20150702T232059Z
UID:5663-1445558400-1445644799@mountdoug.sd61.bc.ca
SUMMARY:YCI Conference at Mount Doug
DESCRIPTION:YCI Motivational Conference taking place at Mount Doug
URL:https://mountdoug.sd61.bc.ca/calendar-event/yci-conference-at-mount-doug/
LOCATION:Mount Douglas Secondary School\, 3970 Gordon Head Road\, Victoria\, B.C.\, BC\, V8N 3X3\, Canada
END:VEVENT
BEGIN:VEVENT
DTSTART;VALUE=DATE:20151027
DTEND;VALUE=DATE:20151028
DTSTAMP:20260422T173533
CREATED:20150916T160254Z
LAST-MODIFIED:20150916T160254Z
UID:5750-1445904000-1445990399@mountdoug.sd61.bc.ca
SUMMARY:Staff Collaboration Time - Classes begin at 10 a.m.
DESCRIPTION:
URL:https://mountdoug.sd61.bc.ca/calendar-event/staff-collaboration-time-classes-begin-at-10-a-m/
END:VEVENT
BEGIN:VEVENT
DTSTART;TZID=America/Vancouver:20151029T190000
DTEND;TZID=America/Vancouver:20151029T220000
DTSTAMP:20260422T173533
CREATED:20150702T231712Z
LAST-MODIFIED:20150702T232126Z
UID:5662-1446145200-1446156000@mountdoug.sd61.bc.ca
SUMMARY:Halloween Dance
DESCRIPTION:
URL:https://mountdoug.sd61.bc.ca/calendar-event/halloween-dance-3/
END:VEVENT
BEGIN:VEVENT
DTSTART;VALUE=DATE:20151030
DTEND;VALUE=DATE:20151031
DTSTAMP:20260422T173533
CREATED:20150622T165629Z
LAST-MODIFIED:20150622T165629Z
UID:5520-1446163200-1446249599@mountdoug.sd61.bc.ca
SUMMARY:Photo Retakes (morning only)
DESCRIPTION:
URL:https://mountdoug.sd61.bc.ca/calendar-event/photo-retakes-morning-only/
END:VEVENT
END:VCALENDAR