BEGIN:VCALENDAR
VERSION:2.0
PRODID:-//Mount Douglas Secondary - ECPv6.2.8.1//NONSGML v1.0//EN
CALSCALE:GREGORIAN
METHOD:PUBLISH
X-ORIGINAL-URL:https://mountdoug.sd61.bc.ca
X-WR-CALDESC:Events for Mount Douglas Secondary
REFRESH-INTERVAL;VALUE=DURATION:PT1H
X-Robots-Tag:noindex
X-PUBLISHED-TTL:PT1H
BEGIN:VTIMEZONE
TZID:America/Vancouver
BEGIN:DAYLIGHT
TZOFFSETFROM:-0800
TZOFFSETTO:-0700
TZNAME:PDT
DTSTART:20150308T100000
END:DAYLIGHT
BEGIN:STANDARD
TZOFFSETFROM:-0700
TZOFFSETTO:-0800
TZNAME:PST
DTSTART:20151101T090000
END:STANDARD
END:VTIMEZONE
BEGIN:VEVENT
DTSTART;VALUE=DATE:20151201
DTEND;VALUE=DATE:20151205
DTSTAMP:20260422T015420
CREATED:20150622T173946Z
LAST-MODIFIED:20150622T173946Z
UID:5537-1448928000-1449273599@mountdoug.sd61.bc.ca
SUMMARY:"Fill the Foyer"
DESCRIPTION:
URL:https://mountdoug.sd61.bc.ca/calendar-event/fill-the-foyer-2/
END:VEVENT
BEGIN:VEVENT
DTSTART;VALUE=DATE:20151207
DTEND;VALUE=DATE:20151212
DTSTAMP:20260422T015420
CREATED:20150622T174031Z
LAST-MODIFIED:20150916T193749Z
UID:5538-1449446400-1449878399@mountdoug.sd61.bc.ca
SUMMARY:"Fill the Foyer" Food Drive
DESCRIPTION:
URL:https://mountdoug.sd61.bc.ca/calendar-event/fill-the-foyer-3/
END:VEVENT
BEGIN:VEVENT
DTSTART;VALUE=DATE:20151207
DTEND;VALUE=DATE:20151219
DTSTAMP:20260422T015420
CREATED:20150622T173342Z
LAST-MODIFIED:20150714T205139Z
UID:5536-1449446400-1450483199@mountdoug.sd61.bc.ca
SUMMARY:Grad Portraits
DESCRIPTION:December 7-18
URL:https://mountdoug.sd61.bc.ca/calendar-event/grad-portraits-2/
END:VEVENT
BEGIN:VEVENT
DTSTART;VALUE=DATE:20151210
DTEND;VALUE=DATE:20151211
DTSTAMP:20260422T015420
CREATED:20150622T172448Z
LAST-MODIFIED:20150622T172448Z
UID:5531-1449705600-1449791999@mountdoug.sd61.bc.ca
SUMMARY:Grad Winter Formal
DESCRIPTION:
URL:https://mountdoug.sd61.bc.ca/calendar-event/grad-winter-formal-3/
END:VEVENT
BEGIN:VEVENT
DTSTART;VALUE=DATE:20151215
DTEND;VALUE=DATE:20151216
DTSTAMP:20260422T015420
CREATED:20150916T163722Z
LAST-MODIFIED:20150916T163722Z
UID:5757-1450137600-1450223999@mountdoug.sd61.bc.ca
SUMMARY:Staff Collaboration Time - Classes begin at 10 a.m.
DESCRIPTION:
URL:https://mountdoug.sd61.bc.ca/calendar-event/staff-collaboration-time-classes-begin-at-10-a-m-5/
END:VEVENT
BEGIN:VEVENT
DTSTART;TZID=America/Vancouver:20151216T190000
DTEND;TZID=America/Vancouver:20151216T190000
DTSTAMP:20260422T015420
CREATED:20150622T172817Z
LAST-MODIFIED:20150622T172817Z
UID:5532-1450292400-1450292400@mountdoug.sd61.bc.ca
SUMMARY:Night of Holiday Music
DESCRIPTION:MDS Gym
URL:https://mountdoug.sd61.bc.ca/calendar-event/night-of-holiday-music-3/
END:VEVENT
BEGIN:VEVENT
DTSTART;VALUE=DATE:20151217
DTEND;VALUE=DATE:20151218
DTSTAMP:20260422T015420
CREATED:20150622T173006Z
LAST-MODIFIED:20150714T205354Z
UID:5533-1450310400-1450396799@mountdoug.sd61.bc.ca
SUMMARY:Locker Clean Out
DESCRIPTION:end of Period 2
URL:https://mountdoug.sd61.bc.ca/calendar-event/locker-clean-out/
END:VEVENT
BEGIN:VEVENT
DTSTART;VALUE=DATE:20151218
DTEND;VALUE=DATE:20151219
DTSTAMP:20260422T015420
CREATED:20150422T170015Z
LAST-MODIFIED:20150422T170015Z
UID:5307-1450396800-1450483199@mountdoug.sd61.bc.ca
SUMMARY:Last Day before Winter Break
DESCRIPTION:
URL:https://mountdoug.sd61.bc.ca/calendar-event/last-day-before-winter-break/
END:VEVENT
BEGIN:VEVENT
DTSTART;VALUE=DATE:20151218
DTEND;VALUE=DATE:20151219
DTSTAMP:20260422T015420
CREATED:20150622T180111Z
LAST-MODIFIED:20150622T180111Z
UID:5540-1450396800-1450483199@mountdoug.sd61.bc.ca
SUMMARY:Santa's Breakfast & Assembly
DESCRIPTION:
URL:https://mountdoug.sd61.bc.ca/calendar-event/santas-breakfast-assembly-2/
END:VEVENT
END:VCALENDAR